Package: immunotation Version: 1.0.1 Command: rm -rf immunotation.buildbin-libdir && mkdir immunotation.buildbin-libdir && C:\Users\biocbuild\bbs-3.13-bioc\R\bin\R.exe CMD INSTALL --merge-multiarch --build --library=immunotation.buildbin-libdir immunotation_1.0.1.tar.gz StartedAt: 2021-10-15 09:55:05 -0400 (Fri, 15 Oct 2021) EndedAt: 2021-10-15 09:56:35 -0400 (Fri, 15 Oct 2021) EllapsedTime: 90.6 seconds RetCode: 0 Status: OK PackageFile: immunotation_1.0.1.zip PackageFileSize: 4.009 MiB