Package: immunotation Version: 1.0.1 Command: chmod a+r immunotation -R && C:\Users\biocbuild\bbs-3.13-bioc\R\bin\R.exe CMD build --keep-empty-dirs --no-resave-data immunotation StartedAt: 2021-10-14 15:03:30 -0400 (Thu, 14 Oct 2021) EndedAt: 2021-10-14 15:07:11 -0400 (Thu, 14 Oct 2021) EllapsedTime: 220.7 seconds RetCode: 0 Status: OK PackageFile: immunotation_1.0.1.tar.gz PackageFileSize: 2.017 MiB