Package: intansv Version: 1.32.0 Command: rm -rf intansv.buildbin-libdir && mkdir intansv.buildbin-libdir && /Users/biocbuild/BBS/utils/build-universal.sh intansv_1.32.0.tar.gz /Library/Frameworks/R.framework/Versions/Current/Resources/bin/R intansv.buildbin-libdir StartedAt: 2021-10-15 02:48:38 -0400 (Fri, 15 Oct 2021) EndedAt: 2021-10-15 02:49:36 -0400 (Fri, 15 Oct 2021) EllapsedTime: 58.2 seconds RetCode: 0 Status: OK PackageFile: intansv_1.32.0.tgz PackageFileSize: 775.4 KiB