Package: intansv Version: 1.32.0 Command: /home/biocbuild/bbs-3.13-bioc/R/bin/R CMD check --install=check:intansv.install-out.txt --library=/home/biocbuild/bbs-3.13-bioc/R/library --no-vignettes --timings intansv_1.32.0.tar.gz StartedAt: 2021-10-14 10:16:03 -0400 (Thu, 14 Oct 2021) EndedAt: 2021-10-14 10:21:21 -0400 (Thu, 14 Oct 2021) EllapsedTime: 317.8 seconds RetCode: 0 Status: OK CheckDir: intansv.Rcheck Warnings: 0