Package: intansv Version: 1.32.0 Command: chmod a+r intansv -R && C:\Users\biocbuild\bbs-3.13-bioc\R\bin\R.exe CMD build --keep-empty-dirs --no-resave-data intansv StartedAt: 2021-10-14 15:05:18 -0400 (Thu, 14 Oct 2021) EndedAt: 2021-10-14 15:07:28 -0400 (Thu, 14 Oct 2021) EllapsedTime: 130.9 seconds RetCode: 0 Status: OK PackageFile: intansv_1.32.0.tar.gz PackageFileSize: 671.1 KiB