Package: interactiveDisplayBase Version: 1.30.0 Command: /home/biocbuild/bbs-3.13-bioc/R/bin/R CMD build --keep-empty-dirs --no-resave-data interactiveDisplayBase StartedAt: 2021-10-14 07:32:48 -0400 (Thu, 14 Oct 2021) EndedAt: 2021-10-14 07:32:52 -0400 (Thu, 14 Oct 2021) EllapsedTime: 4.1 seconds RetCode: 0 Status: OK PackageFile: interactiveDisplayBase_1.30.0.tar.gz PackageFileSize: 11.45 KiB