git_url: https://git.bioconductor.org/packages/ipdDb git_branch: RELEASE_3_13 git_last_commit: 926b8bd git_last_commit_date: 2021-05-19 12:36:37 -0400 (Wed, 19 May 2021) Package: ipdDb Version: 1.10.0 Maintainer: Steffen Klasberg MaintainerEmail: klasberg at dkms-lab.de