Package: ipdDb Version: 1.10.0 Command: rm -rf ipdDb.buildbin-libdir && mkdir ipdDb.buildbin-libdir && /Users/biocbuild/BBS/utils/build-universal.sh ipdDb_1.10.0.tar.gz /Library/Frameworks/R.framework/Versions/Current/Resources/bin/R ipdDb.buildbin-libdir StartedAt: 2021-10-15 02:49:46 -0400 (Fri, 15 Oct 2021) EndedAt: 2021-10-15 02:50:57 -0400 (Fri, 15 Oct 2021) EllapsedTime: 70.4 seconds RetCode: 0 Status: OK PackageFile: ipdDb_1.10.0.tgz PackageFileSize: 364.7 KiB