Package: ipdDb Version: 1.10.0 Command: /Library/Frameworks/R.framework/Versions/Current/Resources/bin/R CMD check --install=check:ipdDb.install-out.txt --library=/Library/Frameworks/R.framework/Versions/Current/Resources/library --no-vignettes --timings ipdDb_1.10.0.tar.gz StartedAt: 2021-10-14 20:16:52 -0400 (Thu, 14 Oct 2021) EndedAt: 2021-10-14 20:20:49 -0400 (Thu, 14 Oct 2021) EllapsedTime: 236.5 seconds RetCode: 0 Status: OK CheckDir: ipdDb.Rcheck Warnings: 0