Package: ipdDb Version: 1.10.0 Command: /home/biocbuild/bbs-3.13-bioc/R/bin/R CMD build --keep-empty-dirs --no-resave-data ipdDb StartedAt: 2021-10-14 07:33:23 -0400 (Thu, 14 Oct 2021) EndedAt: 2021-10-14 07:33:39 -0400 (Thu, 14 Oct 2021) EllapsedTime: 16.4 seconds RetCode: 0 Status: OK PackageFile: ipdDb_1.10.0.tar.gz PackageFileSize: 20.7 KiB