Package: ipdDb Version: 1.10.0 Command: /home/biocbuild/bbs-3.13-bioc/R/bin/R CMD check --install=check:ipdDb.install-out.txt --library=/home/biocbuild/bbs-3.13-bioc/R/library --no-vignettes --timings ipdDb_1.10.0.tar.gz StartedAt: 2021-10-14 10:17:31 -0400 (Thu, 14 Oct 2021) EndedAt: 2021-10-14 10:20:18 -0400 (Thu, 14 Oct 2021) EllapsedTime: 167.3 seconds RetCode: 0 Status: OK CheckDir: ipdDb.Rcheck Warnings: 0