Package: ipdDb Version: 1.10.0 Command: chmod a+r ipdDb -R && C:\Users\biocbuild\bbs-3.13-bioc\R\bin\R.exe CMD build --keep-empty-dirs --no-resave-data ipdDb StartedAt: 2021-10-14 15:07:19 -0400 (Thu, 14 Oct 2021) EndedAt: 2021-10-14 15:08:12 -0400 (Thu, 14 Oct 2021) EllapsedTime: 52.9 seconds RetCode: 0 Status: OK PackageFile: ipdDb_1.10.0.tar.gz PackageFileSize: 21.09 KiB