Package: iterativeBMAsurv Version: 1.50.0 Command: /home/biocbuild/bbs-3.13-bioc/R/bin/R CMD build --keep-empty-dirs --no-resave-data iterativeBMAsurv StartedAt: 2021-10-14 07:34:08 -0400 (Thu, 14 Oct 2021) EndedAt: 2021-10-14 07:34:28 -0400 (Thu, 14 Oct 2021) EllapsedTime: 19.8 seconds RetCode: 0 Status: OK PackageFile: iterativeBMAsurv_1.50.0.tar.gz PackageFileSize: 228.1 KiB