Package: ivygapSE Version: 1.14.1 Command: /home/biocbuild/bbs-3.13-bioc/R/bin/R CMD build --keep-empty-dirs --no-resave-data ivygapSE StartedAt: 2021-10-14 07:34:25 -0400 (Thu, 14 Oct 2021) EndedAt: 2021-10-14 07:36:40 -0400 (Thu, 14 Oct 2021) EllapsedTime: 135.0 seconds RetCode: 0 Status: OK PackageFile: ivygapSE_1.14.1.tar.gz PackageFileSize: 15.3 MiB