Package: karyoploteR Version: 1.18.0 Command: rm -rf karyoploteR.buildbin-libdir && mkdir karyoploteR.buildbin-libdir && /Users/biocbuild/BBS/utils/build-universal.sh karyoploteR_1.18.0.tar.gz /Library/Frameworks/R.framework/Versions/Current/Resources/bin/R karyoploteR.buildbin-libdir StartedAt: 2021-10-15 02:51:51 -0400 (Fri, 15 Oct 2021) EndedAt: 2021-10-15 02:53:02 -0400 (Fri, 15 Oct 2021) EllapsedTime: 70.3 seconds RetCode: 0 Status: OK PackageFile: karyoploteR_1.18.0.tgz PackageFileSize: 2.445 MiB