Package: kissDE Version: 1.12.0 Command: /home/biocbuild/bbs-3.13-bioc/R/bin/R CMD build --keep-empty-dirs --no-resave-data kissDE StartedAt: 2021-10-14 07:35:01 -0400 (Thu, 14 Oct 2021) EndedAt: 2021-10-14 07:37:03 -0400 (Thu, 14 Oct 2021) EllapsedTime: 122.7 seconds RetCode: 0 Status: OK PackageFile: kissDE_1.12.0.tar.gz PackageFileSize: 835.1 KiB