Package: kissDE Version: 1.12.0 Command: chmod a+r kissDE -R && C:\Users\biocbuild\bbs-3.13-bioc\R\bin\R.exe CMD build --keep-empty-dirs --no-resave-data kissDE StartedAt: 2021-10-14 15:12:55 -0400 (Thu, 14 Oct 2021) EndedAt: 2021-10-14 15:15:16 -0400 (Thu, 14 Oct 2021) EllapsedTime: 141.0 seconds RetCode: 0 Status: OK PackageFile: kissDE_1.12.0.tar.gz PackageFileSize: 837.2 KiB