git_url: https://git.bioconductor.org/packages/les git_branch: RELEASE_3_13 git_last_commit: 9224538 git_last_commit_date: 2021-05-19 11:46:16 -0400 (Wed, 19 May 2021) Package: les Version: 1.42.0 Maintainer: Julian Gehring MaintainerEmail: jg-bioc at gmx.com