Package: les Version: 1.42.0 Command: rm -rf les.buildbin-libdir && mkdir les.buildbin-libdir && /Users/biocbuild/BBS/utils/build-universal.sh les_1.42.0.tar.gz /Library/Frameworks/R.framework/Versions/Current/Resources/bin/R les.buildbin-libdir StartedAt: 2021-10-15 02:53:28 -0400 (Fri, 15 Oct 2021) EndedAt: 2021-10-15 02:54:38 -0400 (Fri, 15 Oct 2021) EllapsedTime: 70.2 seconds RetCode: 0 Status: OK PackageFile: les_1.42.0.tgz PackageFileSize: 614 KiB