Package: les Version: 1.42.0 Command: /Library/Frameworks/R.framework/Versions/Current/Resources/bin/R CMD build --keep-empty-dirs --no-resave-data les StartedAt: 2021-10-14 12:52:35 -0400 (Thu, 14 Oct 2021) EndedAt: 2021-10-14 12:52:58 -0400 (Thu, 14 Oct 2021) EllapsedTime: 23.1 seconds RetCode: 0 Status: OK PackageFile: les_1.42.0.tar.gz PackageFileSize: 404.7 KiB