Package: les Version: 1.42.0 Command: /Library/Frameworks/R.framework/Versions/Current/Resources/bin/R CMD INSTALL les StartedAt: 2021-10-14 08:16:59 -0400 (Thu, 14 Oct 2021) EndedAt: 2021-10-14 08:17:54 -0400 (Thu, 14 Oct 2021) EllapsedTime: 55.3 seconds RetCode: 0 Status: OK