Package: les Version: 1.42.0 Command: /home/biocbuild/bbs-3.13-bioc/R/bin/R CMD INSTALL les StartedAt: 2021-10-14 06:03:30 -0400 (Thu, 14 Oct 2021) EndedAt: 2021-10-14 06:03:48 -0400 (Thu, 14 Oct 2021) EllapsedTime: 18.1 seconds RetCode: 0 Status: OK