Package: les Version: 1.42.0 Command: rm -rf les.buildbin-libdir && mkdir les.buildbin-libdir && C:\Users\biocbuild\bbs-3.13-bioc\R\bin\R.exe CMD INSTALL --merge-multiarch --build --library=les.buildbin-libdir les_1.42.0.tar.gz StartedAt: 2021-10-15 10:04:04 -0400 (Fri, 15 Oct 2021) EndedAt: 2021-10-15 10:05:35 -0400 (Fri, 15 Oct 2021) EllapsedTime: 91.2 seconds RetCode: 0 Status: OK PackageFile: les_1.42.0.zip PackageFileSize: 637.6 KiB