Package: les Version: 1.42.0 Command: chmod a+r les -R && C:\Users\biocbuild\bbs-3.13-bioc\R\bin\R.exe CMD build --keep-empty-dirs --no-resave-data les StartedAt: 2021-10-14 15:14:15 -0400 (Thu, 14 Oct 2021) EndedAt: 2021-10-14 15:14:41 -0400 (Thu, 14 Oct 2021) EllapsedTime: 26.2 seconds RetCode: 0 Status: OK PackageFile: les_1.42.0.tar.gz PackageFileSize: 384.7 KiB