Package: les Version: 1.42.0 Command: C:\cygwin\bin\curl.exe -O http://155.52.207.165/BBS/3.13/bioc/src/contrib/les_1.42.0.tar.gz && rm -rf les.buildbin-libdir && mkdir les.buildbin-libdir && C:\Users\biocbuild\bbs-3.13-bioc\R\bin\R.exe CMD INSTALL --merge-multiarch --build --library=les.buildbin-libdir les_1.42.0.tar.gz && C:\Users\biocbuild\bbs-3.13-bioc\R\bin\R.exe CMD INSTALL les_1.42.0.zip && rm les_1.42.0.tar.gz les_1.42.0.zip StartedAt: 2021-10-14 07:07:33 -0400 (Thu, 14 Oct 2021) EndedAt: 2021-10-14 07:11:11 -0400 (Thu, 14 Oct 2021) EllapsedTime: 217.7 seconds RetCode: 0 Status: OK