Package: lfa Version: 1.22.0 Command: /Library/Frameworks/R.framework/Versions/Current/Resources/bin/R CMD build --keep-empty-dirs --no-resave-data lfa StartedAt: 2021-10-14 12:52:51 -0400 (Thu, 14 Oct 2021) EndedAt: 2021-10-14 12:53:05 -0400 (Thu, 14 Oct 2021) EllapsedTime: 13.7 seconds RetCode: 0 Status: OK PackageFile: lfa_1.22.0.tar.gz PackageFileSize: 283.8 KiB