Package: lfa Version: 1.22.0 Command: rm -rf lfa.buildbin-libdir && mkdir lfa.buildbin-libdir && C:\Users\biocbuild\bbs-3.13-bioc\R\bin\R.exe CMD INSTALL --merge-multiarch --build --library=lfa.buildbin-libdir lfa_1.22.0.tar.gz StartedAt: 2021-10-15 10:04:20 -0400 (Fri, 15 Oct 2021) EndedAt: 2021-10-15 10:05:51 -0400 (Fri, 15 Oct 2021) EllapsedTime: 91.0 seconds RetCode: 0 Status: OK PackageFile: lfa_1.22.0.zip PackageFileSize: 468.6 KiB