Package: lfa Version: 1.22.0 Command: chmod a+r lfa -R && C:\Users\biocbuild\bbs-3.13-bioc\R\bin\R.exe CMD build --keep-empty-dirs --no-resave-data lfa StartedAt: 2021-10-14 15:14:34 -0400 (Thu, 14 Oct 2021) EndedAt: 2021-10-14 15:14:59 -0400 (Thu, 14 Oct 2021) EllapsedTime: 24.7 seconds RetCode: 0 Status: OK PackageFile: lfa_1.22.0.tar.gz PackageFileSize: 283.9 KiB