Package: mBPCR Version: 1.46.0 Command: rm -rf mBPCR.buildbin-libdir && mkdir mBPCR.buildbin-libdir && /Users/biocbuild/BBS/utils/build-universal.sh mBPCR_1.46.0.tar.gz /Library/Frameworks/R.framework/Versions/Current/Resources/bin/R mBPCR.buildbin-libdir StartedAt: 2021-10-15 02:59:36 -0400 (Fri, 15 Oct 2021) EndedAt: 2021-10-15 03:00:40 -0400 (Fri, 15 Oct 2021) EllapsedTime: 63.3 seconds RetCode: 0 Status: OK PackageFile: mBPCR_1.46.0.tgz PackageFileSize: 813.8 KiB