Package: mBPCR Version: 1.46.0 Command: /Library/Frameworks/R.framework/Versions/Current/Resources/bin/R CMD build --keep-empty-dirs --no-resave-data mBPCR StartedAt: 2021-10-14 13:01:05 -0400 (Thu, 14 Oct 2021) EndedAt: 2021-10-14 13:02:13 -0400 (Thu, 14 Oct 2021) EllapsedTime: 68.2 seconds RetCode: 0 Status: OK PackageFile: mBPCR_1.46.0.tar.gz PackageFileSize: 722 KiB