Package: mBPCR Version: 1.46.0 Command: /Library/Frameworks/R.framework/Versions/Current/Resources/bin/R CMD check --install=check:mBPCR.install-out.txt --library=/Library/Frameworks/R.framework/Versions/Current/Resources/library --no-vignettes --timings mBPCR_1.46.0.tar.gz StartedAt: 2021-10-14 20:43:34 -0400 (Thu, 14 Oct 2021) EndedAt: 2021-10-14 20:48:01 -0400 (Thu, 14 Oct 2021) EllapsedTime: 268.0 seconds RetCode: 0 Status: OK CheckDir: mBPCR.Rcheck Warnings: 0