Package: mBPCR Version: 1.46.0 Command: /home/biocbuild/bbs-3.13-bioc/R/bin/R CMD build --keep-empty-dirs --no-resave-data mBPCR StartedAt: 2021-10-14 07:38:48 -0400 (Thu, 14 Oct 2021) EndedAt: 2021-10-14 07:39:38 -0400 (Thu, 14 Oct 2021) EllapsedTime: 49.1 seconds RetCode: 0 Status: OK PackageFile: mBPCR_1.46.0.tar.gz PackageFileSize: 699 KiB