Package: mBPCR Version: 1.46.0 Command: rm -rf mBPCR.buildbin-libdir && mkdir mBPCR.buildbin-libdir && C:\Users\biocbuild\bbs-3.13-bioc\R\bin\R.exe CMD INSTALL --merge-multiarch --build --library=mBPCR.buildbin-libdir mBPCR_1.46.0.tar.gz StartedAt: 2021-10-15 10:13:37 -0400 (Fri, 15 Oct 2021) EndedAt: 2021-10-15 10:15:08 -0400 (Fri, 15 Oct 2021) EllapsedTime: 90.8 seconds RetCode: 0 Status: OK PackageFile: mBPCR_1.46.0.zip PackageFileSize: 833.2 KiB