Package: mBPCR Version: 1.46.0 Command: chmod a+r mBPCR -R && C:\Users\biocbuild\bbs-3.13-bioc\R\bin\R.exe CMD build --keep-empty-dirs --no-resave-data mBPCR StartedAt: 2021-10-14 15:24:58 -0400 (Thu, 14 Oct 2021) EndedAt: 2021-10-14 15:26:08 -0400 (Thu, 14 Oct 2021) EllapsedTime: 69.4 seconds RetCode: 0 Status: OK PackageFile: mBPCR_1.46.0.tar.gz PackageFileSize: 717.5 KiB