Package: marr Version: 1.2.0 Command: /Library/Frameworks/R.framework/Versions/Current/Resources/bin/R CMD check --install=check:marr.install-out.txt --library=/Library/Frameworks/R.framework/Versions/Current/Resources/library --no-vignettes --timings marr_1.2.0.tar.gz StartedAt: 2021-10-14 20:39:23 -0400 (Thu, 14 Oct 2021) EndedAt: 2021-10-14 20:43:23 -0400 (Thu, 14 Oct 2021) EllapsedTime: 239.7 seconds RetCode: 0 Status: OK CheckDir: marr.Rcheck Warnings: 0