Package: marr Version: 1.2.0 Command: chmod a+r marr -R && C:\Users\biocbuild\bbs-3.13-bioc\R\bin\R.exe CMD build --keep-empty-dirs --no-resave-data marr StartedAt: 2021-10-14 15:22:06 -0400 (Thu, 14 Oct 2021) EndedAt: 2021-10-14 15:23:06 -0400 (Thu, 14 Oct 2021) EllapsedTime: 59.3 seconds RetCode: 0 Status: OK PackageFile: marr_1.2.0.tar.gz PackageFileSize: 566.5 KiB