Package: matchBox Version: 1.34.0 Command: /Library/Frameworks/R.framework/Versions/Current/Resources/bin/R CMD build --keep-empty-dirs --no-resave-data matchBox StartedAt: 2021-10-14 12:59:56 -0400 (Thu, 14 Oct 2021) EndedAt: 2021-10-14 13:00:08 -0400 (Thu, 14 Oct 2021) EllapsedTime: 11.9 seconds RetCode: 0 Status: OK PackageFile: matchBox_1.34.0.tar.gz PackageFileSize: 642.1 KiB