Package: matchBox Version: 1.34.0 Command: /Library/Frameworks/R.framework/Versions/Current/Resources/bin/R CMD check --install=check:matchBox.install-out.txt --library=/Library/Frameworks/R.framework/Versions/Current/Resources/library --no-vignettes --timings matchBox_1.34.0.tar.gz StartedAt: 2021-10-14 20:42:11 -0400 (Thu, 14 Oct 2021) EndedAt: 2021-10-14 20:42:40 -0400 (Thu, 14 Oct 2021) EllapsedTime: 28.5 seconds RetCode: 0 Status: OK CheckDir: matchBox.Rcheck Warnings: 0