git_url: https://git.bioconductor.org/packages/matter git_branch: RELEASE_3_13 git_last_commit: dbca756 git_last_commit_date: 2021-05-19 12:23:45 -0400 (Wed, 19 May 2021) Package: matter Version: 1.18.0 Maintainer: Kylie A. Bemis MaintainerEmail: k.bemis at northeastern.edu