Package: matter Version: 1.18.0 Command: /Library/Frameworks/R.framework/Versions/Current/Resources/bin/R CMD INSTALL matter StartedAt: 2021-10-14 08:35:46 -0400 (Thu, 14 Oct 2021) EndedAt: 2021-10-14 08:36:33 -0400 (Thu, 14 Oct 2021) EllapsedTime: 47.2 seconds RetCode: 0 Status: OK