Package: matter Version: 1.18.0 Command: /home/biocbuild/bbs-3.13-bioc/R/bin/R CMD build --keep-empty-dirs --no-resave-data matter StartedAt: 2021-10-14 07:38:34 -0400 (Thu, 14 Oct 2021) EndedAt: 2021-10-14 07:40:27 -0400 (Thu, 14 Oct 2021) EllapsedTime: 113.1 seconds RetCode: 0 Status: OK PackageFile: matter_1.18.0.tar.gz PackageFileSize: 2.661 MiB