Package: matter Version: 1.18.0 Command: /home/biocbuild/bbs-3.13-bioc/R/bin/R CMD INSTALL matter StartedAt: 2021-10-14 06:04:38 -0400 (Thu, 14 Oct 2021) EndedAt: 2021-10-14 06:05:22 -0400 (Thu, 14 Oct 2021) EllapsedTime: 43.5 seconds RetCode: 0 Status: OK