Package: matter Version: 1.18.0 Command: rm -rf matter.buildbin-libdir && mkdir matter.buildbin-libdir && C:\Users\biocbuild\bbs-3.13-bioc\R\bin\R.exe CMD INSTALL --merge-multiarch --build --library=matter.buildbin-libdir matter_1.18.0.tar.gz StartedAt: 2021-10-15 10:12:56 -0400 (Fri, 15 Oct 2021) EndedAt: 2021-10-15 10:14:27 -0400 (Fri, 15 Oct 2021) EllapsedTime: 90.0 seconds RetCode: 0 Status: OK PackageFile: matter_1.18.0.zip PackageFileSize: 4.233 MiB