Package: matter Version: 1.18.0 Command: chmod a+r matter -R && C:\Users\biocbuild\bbs-3.13-bioc\R\bin\R.exe CMD build --keep-empty-dirs --no-resave-data matter StartedAt: 2021-10-14 15:24:17 -0400 (Thu, 14 Oct 2021) EndedAt: 2021-10-14 15:27:35 -0400 (Thu, 14 Oct 2021) EllapsedTime: 198.5 seconds RetCode: 0 Status: OK PackageFile: matter_1.18.0.tar.gz PackageFileSize: 2.662 MiB