Package: matter Version: 1.18.0 Command: C:\Users\biocbuild\bbs-3.13-bioc\R\bin\R.exe CMD check --force-multiarch --install=check:matter.install-out.txt --library=C:\Users\biocbuild\bbs-3.13-bioc\R\library --no-vignettes --timings matter_1.18.0.tar.gz StartedAt: 2021-10-15 01:24:49 -0400 (Fri, 15 Oct 2021) EndedAt: 2021-10-15 01:27:13 -0400 (Fri, 15 Oct 2021) EllapsedTime: 143.5 seconds RetCode: 0 Status: OK CheckDir: matter.Rcheck Warnings: 0