Package: mbkmeans Version: 1.8.0 Command: rm -rf mbkmeans.buildbin-libdir && mkdir mbkmeans.buildbin-libdir && /Users/biocbuild/BBS/utils/build-universal.sh mbkmeans_1.8.0.tar.gz /Library/Frameworks/R.framework/Versions/Current/Resources/bin/R mbkmeans.buildbin-libdir StartedAt: 2021-10-15 02:59:31 -0400 (Fri, 15 Oct 2021) EndedAt: 2021-10-15 03:00:34 -0400 (Fri, 15 Oct 2021) EllapsedTime: 63.4 seconds RetCode: 0 Status: OK PackageFile: mbkmeans_1.8.0.tgz PackageFileSize: 464.9 KiB