Package: mbkmeans Version: 1.8.0 Command: /Library/Frameworks/R.framework/Versions/Current/Resources/bin/R CMD check --install=check:mbkmeans.install-out.txt --library=/Library/Frameworks/R.framework/Versions/Current/Resources/library --no-vignettes --timings mbkmeans_1.8.0.tar.gz StartedAt: 2021-10-14 20:43:28 -0400 (Thu, 14 Oct 2021) EndedAt: 2021-10-14 20:50:46 -0400 (Thu, 14 Oct 2021) EllapsedTime: 437.4 seconds RetCode: 0 Status: OK CheckDir: mbkmeans.Rcheck Warnings: 0