Package: mbkmeans Version: 1.8.0 Command: /Library/Frameworks/R.framework/Versions/Current/Resources/bin/R CMD INSTALL mbkmeans StartedAt: 2021-10-14 09:13:00 -0400 (Thu, 14 Oct 2021) EndedAt: 2021-10-14 09:13:51 -0400 (Thu, 14 Oct 2021) EllapsedTime: 50.4 seconds RetCode: 0 Status: OK