Package: mbkmeans Version: 1.8.0 Command: /home/biocbuild/bbs-3.13-bioc/R/bin/R CMD check --install=check:mbkmeans.install-out.txt --library=/home/biocbuild/bbs-3.13-bioc/R/library --no-vignettes --timings mbkmeans_1.8.0.tar.gz StartedAt: 2021-10-14 10:27:29 -0400 (Thu, 14 Oct 2021) EndedAt: 2021-10-14 10:32:28 -0400 (Thu, 14 Oct 2021) EllapsedTime: 299.3 seconds RetCode: 0 Status: OK CheckDir: mbkmeans.Rcheck Warnings: 0