Package: mbkmeans Version: 1.8.0 Command: chmod a+r mbkmeans -R && C:\Users\biocbuild\bbs-3.13-bioc\R\bin\R.exe CMD build --keep-empty-dirs --no-resave-data mbkmeans StartedAt: 2021-10-14 15:24:50 -0400 (Thu, 14 Oct 2021) EndedAt: 2021-10-14 15:28:00 -0400 (Thu, 14 Oct 2021) EllapsedTime: 189.8 seconds RetCode: 0 Status: OK PackageFile: mbkmeans_1.8.0.tar.gz PackageFileSize: 256.6 KiB